BEGIN:VCALENDAR
VERSION:2.0
PRODID:-//Eagle Chase Golf Club - Marshville, NC - ECPv6.15.20//NONSGML v1.0//EN
CALSCALE:GREGORIAN
METHOD:PUBLISH
X-WR-CALNAME:Eagle Chase Golf Club - Marshville, NC
X-ORIGINAL-URL:https://playeaglechase.com
X-WR-CALDESC:Events for Eagle Chase Golf Club - Marshville, NC
REFRESH-INTERVAL;VALUE=DURATION:PT1H
X-Robots-Tag:noindex
X-PUBLISHED-TTL:PT1H
BEGIN:VTIMEZONE
TZID:UTC
BEGIN:STANDARD
TZOFFSETFROM:+0000
TZOFFSETTO:+0000
TZNAME:UTC
DTSTART:20250101T000000
END:STANDARD
END:VTIMEZONE
BEGIN:VEVENT
DTSTART;TZID=UTC:20260410T100000
DTEND;TZID=UTC:20260411T180000
DTSTAMP:20260421T091547
CREATED:20251218T204427Z
LAST-MODIFIED:20260225T212848Z
UID:10000007-1775815200-1775930400@playeaglechase.com
SUMMARY:"Eagusta National" Tournament
DESCRIPTION:Two Day Two-Man Captain’s Choice/Best Ball. \n\n\n\nFriday is a Par 3 best ball on the front 9 with a captain’s choice on the back 9 (this will be cumulative with a pro from the Master’s. \n\n\n\nSaturday is an 18 hole best ball tournament. \n\n\n\nSign Up Below… \n\n\n\n\n\n\n\n\n\neagusta sign up\n\n\nPlease enable JavaScript in your browser to complete this form.Please enable JavaScript in your browser to complete this form.Player 1 InformationName *Phone *Email *Handicap *Comment or MessagePlayer 2 InformationName *FirstLastPhone *Email *Handicap *Submit
URL:https://playeaglechase.com/event/eagusta-national-tournament/
LOCATION:Eagle Chase Golf Club\, 3215 Brantley Road\, Marshville\, North Carolina\, 28103
END:VEVENT
BEGIN:VEVENT
DTSTART;TZID=UTC:20260606T100000
DTEND;TZID=UTC:20260607T170000
DTSTAMP:20260421T091547
CREATED:20260227T182635Z
LAST-MODIFIED:20260312T173537Z
UID:10000009-1780740000-1780851600@playeaglechase.com
SUMMARY:Griffin Motors Tournament
DESCRIPTION:Annual Griffin Motors tournament held at Eagle Chase Golf Club. \n\n\n\n\n\nPlease enable JavaScript in your browser to complete this form.Please enable JavaScript in your browser to complete this form.Player 1 InformationName *Phone *Email *Handicap *Comment or MessagePlayer 2 InformationName *FirstLastPhone *Email *Handicap *Submit
URL:https://playeaglechase.com/event/griffin-motors-tournament/
LOCATION:Eagle Chase Golf Club\, 3215 Brantley Road\, Marshville\, North Carolina\, 28103
END:VEVENT
END:VCALENDAR